BEGIN:VCALENDAR
VERSION:2.0
PRODID:-//Solutionsurfers &ndash; Certificare ICF International Coaching Federation - ECPv6.15.20//NONSGML v1.0//EN
CALSCALE:GREGORIAN
METHOD:PUBLISH
X-ORIGINAL-URL:https://ro.solutionsurfers.ro
X-WR-CALDESC:Evenimente pentru Solutionsurfers &ndash; Certificare ICF International Coaching Federation
REFRESH-INTERVAL;VALUE=DURATION:PT1H
X-Robots-Tag:noindex
X-PUBLISHED-TTL:PT1H
BEGIN:VTIMEZONE
TZID:Europe/Bucharest
BEGIN:DAYLIGHT
TZOFFSETFROM:+0200
TZOFFSETTO:+0300
TZNAME:EEST
DTSTART:20250330T010000
END:DAYLIGHT
BEGIN:STANDARD
TZOFFSETFROM:+0300
TZOFFSETTO:+0200
TZNAME:EET
DTSTART:20251026T010000
END:STANDARD
BEGIN:DAYLIGHT
TZOFFSETFROM:+0200
TZOFFSETTO:+0300
TZNAME:EEST
DTSTART:20260329T010000
END:DAYLIGHT
BEGIN:STANDARD
TZOFFSETFROM:+0300
TZOFFSETTO:+0200
TZNAME:EET
DTSTART:20261025T010000
END:STANDARD
BEGIN:DAYLIGHT
TZOFFSETFROM:+0200
TZOFFSETTO:+0300
TZNAME:EEST
DTSTART:20270328T010000
END:DAYLIGHT
BEGIN:STANDARD
TZOFFSETFROM:+0300
TZOFFSETTO:+0200
TZNAME:EET
DTSTART:20271031T010000
END:STANDARD
END:VTIMEZONE
BEGIN:VEVENT
DTSTART;TZID=Europe/Bucharest:20260312T180000
DTEND;TZID=Europe/Bucharest:20260312T190000
DTSTAMP:20260422T121209
CREATED:20251213T080809Z
LAST-MODIFIED:20251213T080810Z
UID:4069-1773338400-1773342000@ro.solutionsurfers.ro
SUMMARY:Free Info Webinar\, Martie 2026
DESCRIPTION:Metoda de coaching Solution Focus este renumită pentru rezultatele rapide\, simplitate și eficiență. Prin întrebările focusate pe soluții și resurse\, putem aduce un plus de încredere și motivație\, care ne ajută să ne concentrăm mai bine pe identificarea micilor schimbări care pot fi făcute\, pentru a merge în direcția dorită\, devenind astfel conștienți de forțele care ne susțin.  \n\n\n\nÎn cultura în care trăim\, este ceva normal să te concentrezi pe probleme și cauzele lor\, analizând și diagnosticând\, cu scopul de a găsi soluții. Metoda de coaching Solution Focus te scutește de analiza problemei. În loc să se concentreze pe înțelegerea în detaliu a problemei\, timpul acordat sesiunii de coaching este folosit pentru a construi pe ce funcționează deja. \n\n\n\nDacă vrei să afli mai multe despre coachingul de scurtă durată focalizat pe soluții\, te așteptăm la întâlnirea online\, să descoperi o abordare eficientă de coaching și să participi la o discuție orientată către soluții\, care-ți va aduce multă energie și o perspectivă inedită. \n\n\n\nVei avea ocazia\, printre altele: \n\n\n\n• să experimentezi forța transformatoare a presupunerilor pozitive în coaching \n\n\n\n• să urmărești o sesiune reală de coaching orientat spre soluții\, în doar 20 de minute \n\n\n\n• să descoperi cum te ajută coachingul orientat spre soluții să faci pași clari spre schimbare\, în plan personal și profesional \n\n\n\n• să afli detalii despre cum devii coach acreditat ICF și care sunt următoarele programe PURE Brief Coaching Training organizate de școala de coaching Solutionsurfers la București și online. \n\n\n\nParticiparea la webinar este gratuită. \n\n\n\n\n\nNume și prenume*\n\n\n\nE-mail*\n\nTelefon*\n\n\n\nTrimite
URL:https://ro.solutionsurfers.ro/eveniment/free-info-webinar-martie-2026/
LOCATION:Online pe platforma Zoom
CATEGORIES:Evenimente Speciale,Școala de coaching cursuri
END:VEVENT
END:VCALENDAR